BEGIN:VCALENDAR
PRODID:-//eluceo/ical//2.0/EN
VERSION:2.0
CALSCALE:GREGORIAN
BEGIN:VEVENT
UID:event-753
DTSTAMP:20260424T204923Z
SUMMARY:Inschrijven Veteranendag
DESCRIPTION:Uiteraard doen we als VVRB&amp\;T weer mee met Veteranendag. St
 erker nog we gaan voor een record deelname in ons detachement. Inschrijven
  voor Veteranendag doe je op de website van het Veteraneninstituut. Vergee
 t niety te vermelden dat je wilt meelopen in het detachement van de Vereni
 ging Veteranen Regiment B&amp\;T (VVRB&amp\;T). We zien jullie allemaal in
  Den Haag
DTSTART:20240629T060000Z
DTEND:20240629T150000Z
END:VEVENT
BEGIN:VTIMEZONE
TZID:UTC
BEGIN:STANDARD
DTSTART:20240629T060000
TZNAME:UTC
TZOFFSETTO:+0000
TZOFFSETFROM:+0000
END:STANDARD
END:VTIMEZONE
END:VCALENDAR
